BEGIN:VCALENDAR
VERSION:2.0
PRODID:-//OFTR - ECPv6.5.2//NONSGML v1.0//EN
CALSCALE:GREGORIAN
METHOD:PUBLISH
X-WR-CALNAME:OFTR
X-ORIGINAL-URL:https://oftr.ca
X-WR-CALDESC:Events for OFTR
REFRESH-INTERVAL;VALUE=DURATION:PT1H
X-Robots-Tag:noindex
X-PUBLISHED-TTL:PT1H
BEGIN:VTIMEZONE
TZID:UTC
BEGIN:STANDARD
TZOFFSETFROM:+0000
TZOFFSETTO:+0000
TZNAME:UTC
DTSTART:20260101T000000
END:STANDARD
END:VTIMEZONE
BEGIN:VEVENT
DTSTART;TZID=UTC:20260704T090000
DTEND;TZID=UTC:20260705T170000
DTSTAMP:20260423T165052
CREATED:20260218T195424Z
LAST-MODIFIED:20260218T195424Z
UID:2839-1783155600-1783270800@oftr.ca
SUMMARY:FUNDURO
DESCRIPTION:
URL:https://oftr.ca/event/funduro/
END:VEVENT
END:VCALENDAR