BEGIN:VCALENDAR
VERSION:2.0
PRODID:-//OFTR - ECPv6.5.2//NONSGML v1.0//EN
CALSCALE:GREGORIAN
METHOD:PUBLISH
X-ORIGINAL-URL:https://oftr.ca
X-WR-CALDESC:Events for OFTR
REFRESH-INTERVAL;VALUE=DURATION:PT1H
X-Robots-Tag:noindex
X-PUBLISHED-TTL:PT1H
BEGIN:VTIMEZONE
TZID:UTC
BEGIN:STANDARD
TZOFFSETFROM:+0000
TZOFFSETTO:+0000
TZNAME:UTC
DTSTART:20260101T000000
END:STANDARD
END:VTIMEZONE
BEGIN:VEVENT
DTSTART;VALUE=DATE:20260711
DTEND;VALUE=DATE:20260712
DTSTAMP:20260423T182755
CREATED:20260218T195509Z
LAST-MODIFIED:20260218T195509Z
UID:2841-1783728000-1783814399@oftr.ca
SUMMARY:FOUR COUNTIES IRON RIBBON RIDE
DESCRIPTION:
URL:https://oftr.ca/event/four-counties-iron-ribbon-ride/
ORGANIZER;CN="BPORRA & DRRRA":MAILTO:info@oftr.ca
END:VEVENT
BEGIN:VEVENT
DTSTART;VALUE=DATE:20260711
DTEND;VALUE=DATE:20260712
DTSTAMP:20260423T182755
CREATED:20260218T195545Z
LAST-MODIFIED:20260315T145753Z
UID:2843-1783728000-1783814399@oftr.ca
SUMMARY:MORR & Dave's Skeleton Lake Ride Series
DESCRIPTION:
URL:https://oftr.ca/event/oftr-family-day-2/
END:VEVENT
END:VCALENDAR