BEGIN:VCALENDAR
VERSION:2.0
PRODID:-//OFTR - ECPv6.5.2//NONSGML v1.0//EN
CALSCALE:GREGORIAN
METHOD:PUBLISH
X-ORIGINAL-URL:https://oftr.ca
X-WR-CALDESC:Events for OFTR
REFRESH-INTERVAL;VALUE=DURATION:PT1H
X-Robots-Tag:noindex
X-PUBLISHED-TTL:PT1H
BEGIN:VTIMEZONE
TZID:UTC
BEGIN:STANDARD
TZOFFSETFROM:+0000
TZOFFSETTO:+0000
TZNAME:UTC
DTSTART:20260101T000000
END:STANDARD
END:VTIMEZONE
BEGIN:VEVENT
DTSTART;TZID=UTC:20260725T080000
DTEND;TZID=UTC:20260726T170000
DTSTAMP:20260423T182754
CREATED:20260218T195712Z
LAST-MODIFIED:20260218T195712Z
UID:2847-1784966400-1785085200@oftr.ca
SUMMARY:WOLF MOUNTAIN ADVENTURE RALLY
DESCRIPTION:
URL:https://oftr.ca/event/wolf-mountain-adventure-rally/
END:VEVENT
END:VCALENDAR