BEGIN:VCALENDAR
VERSION:2.0
PRODID:-//OFTR - ECPv6.5.2//NONSGML v1.0//EN
CALSCALE:GREGORIAN
METHOD:PUBLISH
X-ORIGINAL-URL:https://oftr.ca
X-WR-CALDESC:Events for OFTR
REFRESH-INTERVAL;VALUE=DURATION:PT1H
X-Robots-Tag:noindex
X-PUBLISHED-TTL:PT1H
BEGIN:VTIMEZONE
TZID:UTC
BEGIN:STANDARD
TZOFFSETFROM:+0000
TZOFFSETTO:+0000
TZNAME:UTC
DTSTART:20260101T000000
END:STANDARD
END:VTIMEZONE
BEGIN:VEVENT
DTSTART;VALUE=DATE:20260425
DTEND;VALUE=DATE:20260426
DTSTAMP:20260423T105554
CREATED:20260327T131157Z
LAST-MODIFIED:20260327T131157Z
UID:2898-1777075200-1777161599@oftr.ca
SUMMARY:Motovalley Boot Camp
DESCRIPTION:
URL:https://oftr.ca/event/motovalley-boot-camp/
ORGANIZER;CN="VTR":MAILTO:info@oftr.ca
END:VEVENT
BEGIN:VEVENT
DTSTART;VALUE=DATE:20260426
DTEND;VALUE=DATE:20260427
DTSTAMP:20260423T105554
CREATED:20260218T194658Z
LAST-MODIFIED:20260218T194658Z
UID:2823-1777161600-1777247999@oftr.ca
SUMMARY:BEAGLE BASH
DESCRIPTION:
URL:https://oftr.ca/event/beagle-bash/
END:VEVENT
BEGIN:VEVENT
DTSTART;VALUE=DATE:20260523
DTEND;VALUE=DATE:20260524
DTSTAMP:20260423T105554
CREATED:20260327T131301Z
LAST-MODIFIED:20260327T131301Z
UID:2900-1779494400-1779580799@oftr.ca
SUMMARY:Motovalley Technical
DESCRIPTION:
URL:https://oftr.ca/event/motovalley-technical/
ORGANIZER;CN="VTR":MAILTO:info@oftr.ca
END:VEVENT
BEGIN:VEVENT
DTSTART;VALUE=DATE:20260524
DTEND;VALUE=DATE:20260525
DTSTAMP:20260423T105554
CREATED:20260218T194918Z
LAST-MODIFIED:20260218T194918Z
UID:2827-1779580800-1779667199@oftr.ca
SUMMARY:MIDHURST TRAIL RIDE
DESCRIPTION:
URL:https://oftr.ca/event/midhurst-trail-ride/
END:VEVENT
BEGIN:VEVENT
DTSTART;TZID=UTC:20260524T110000
DTEND;TZID=UTC:20260524T150000
DTSTAMP:20260423T105554
CREATED:20260327T132410Z
LAST-MODIFIED:20260420T152101Z
UID:2909-1779620400-1779634800@oftr.ca
SUMMARY:MOTO MIXER TRAIL RIDE
DESCRIPTION:
URL:https://oftr.ca/event/moto-mixer-trail-ride/
LOCATION:MOTOPARK\, 622794 MOTO PARK RD\, CHATSWORTH\, ON\, N0H 1G0\, Canada
END:VEVENT
BEGIN:VEVENT
DTSTART;VALUE=DATE:20260530
DTEND;VALUE=DATE:20260531
DTSTAMP:20260423T105554
CREATED:20260218T195003Z
LAST-MODIFIED:20260218T195003Z
UID:2829-1780099200-1780185599@oftr.ca
SUMMARY:LADIES RIDE
DESCRIPTION:
URL:https://oftr.ca/event/ladies-ride/
END:VEVENT
BEGIN:VEVENT
DTSTART;VALUE=DATE:20260613
DTEND;VALUE=DATE:20260614
DTSTAMP:20260423T105554
CREATED:20260305T004437Z
LAST-MODIFIED:20260416T130146Z
UID:2870-1781308800-1781395199@oftr.ca
SUMMARY:DAN RYAN MEMORIAL DUAL SPORT RIDE
DESCRIPTION:
URL:https://oftr.ca/event/dan-ryan-memorial-dual-sport-ride/
END:VEVENT
BEGIN:VEVENT
DTSTART;VALUE=DATE:20260613
DTEND;VALUE=DATE:20260614
DTSTAMP:20260423T105554
CREATED:20260327T141300Z
LAST-MODIFIED:20260327T141300Z
UID:2911-1781308800-1781395199@oftr.ca
SUMMARY:THE PETAWAWA PUNISHER
DESCRIPTION:
URL:https://oftr.ca/event/the-petawawa-punisher/
ORGANIZER;CN="VTR":MAILTO:info@oftr.ca
END:VEVENT
BEGIN:VEVENT
DTSTART;TZID=UTC:20260613T090000
DTEND;TZID=UTC:20260613T150000
DTSTAMP:20260423T105554
CREATED:20260315T145546Z
LAST-MODIFIED:20260315T145546Z
UID:2884-1781341200-1781362800@oftr.ca
SUMMARY:MORR & Dave's Skeleton Ride Series
DESCRIPTION:
URL:https://oftr.ca/event/morr-daves-skeleton-ride-series/
LOCATION:Skeleton Lake\, 3409 Aspdin Road\, Utterson\, Ontario\, P0B 1M0\, Canada
END:VEVENT
BEGIN:VEVENT
DTSTART;VALUE=DATE:20260614
DTEND;VALUE=DATE:20260615
DTSTAMP:20260423T105554
CREATED:20260218T195157Z
LAST-MODIFIED:20260218T195157Z
UID:2833-1781395200-1781481599@oftr.ca
SUMMARY:JUNIOR OFF ROAD SCHOOL
DESCRIPTION:
URL:https://oftr.ca/event/junior-off-road-school/
END:VEVENT
BEGIN:VEVENT
DTSTART;VALUE=DATE:20260621
DTEND;VALUE=DATE:20260622
DTSTAMP:20260423T105554
CREATED:20260218T195259Z
LAST-MODIFIED:20260218T195259Z
UID:2835-1782000000-1782086399@oftr.ca
SUMMARY:G TOWN RIDING GAMES DAY
DESCRIPTION:
URL:https://oftr.ca/event/g-town-riding-games-day/
END:VEVENT
BEGIN:VEVENT
DTSTART;VALUE=DATE:20260627
DTEND;VALUE=DATE:20260628
DTSTAMP:20260423T105554
CREATED:20260218T195337Z
LAST-MODIFIED:20260218T195337Z
UID:2837-1782518400-1782604799@oftr.ca
SUMMARY:LADIES RIDE
DESCRIPTION:
URL:https://oftr.ca/event/ladies-ride-2/
END:VEVENT
BEGIN:VEVENT
DTSTART;TZID=UTC:20260704T090000
DTEND;TZID=UTC:20260705T170000
DTSTAMP:20260423T105554
CREATED:20260218T195424Z
LAST-MODIFIED:20260218T195424Z
UID:2839-1783155600-1783270800@oftr.ca
SUMMARY:FUNDURO
DESCRIPTION:
URL:https://oftr.ca/event/funduro/
END:VEVENT
BEGIN:VEVENT
DTSTART;VALUE=DATE:20260711
DTEND;VALUE=DATE:20260712
DTSTAMP:20260423T105554
CREATED:20260218T195509Z
LAST-MODIFIED:20260218T195509Z
UID:2841-1783728000-1783814399@oftr.ca
SUMMARY:FOUR COUNTIES IRON RIBBON RIDE
DESCRIPTION:
URL:https://oftr.ca/event/four-counties-iron-ribbon-ride/
ORGANIZER;CN="BPORRA & DRRRA":MAILTO:info@oftr.ca
END:VEVENT
BEGIN:VEVENT
DTSTART;VALUE=DATE:20260711
DTEND;VALUE=DATE:20260712
DTSTAMP:20260423T105554
CREATED:20260218T195545Z
LAST-MODIFIED:20260315T145753Z
UID:2843-1783728000-1783814399@oftr.ca
SUMMARY:MORR & Dave's Skeleton Lake Ride Series
DESCRIPTION:
URL:https://oftr.ca/event/oftr-family-day-2/
END:VEVENT
BEGIN:VEVENT
DTSTART;VALUE=DATE:20260712
DTEND;VALUE=DATE:20260713
DTSTAMP:20260423T105554
CREATED:20260218T195621Z
LAST-MODIFIED:20260218T195621Z
UID:2845-1783814400-1783900799@oftr.ca
SUMMARY:SOGGY BOOT
DESCRIPTION:
URL:https://oftr.ca/event/soggy-boot/
END:VEVENT
BEGIN:VEVENT
DTSTART;VALUE=DATE:20260718
DTEND;VALUE=DATE:20260719
DTSTAMP:20260423T105554
CREATED:20260326T151341Z
LAST-MODIFIED:20260326T151341Z
UID:2895-1784332800-1784419199@oftr.ca
SUMMARY:KORMA Ladies Thrill and Chill 2026
DESCRIPTION:
URL:https://oftr.ca/event/korma-ladies-thrill-and-chill-2026/
ORGANIZER;CN="KORMA":MAILTO:info@katva.ca
END:VEVENT
BEGIN:VEVENT
DTSTART;VALUE=DATE:20260718
DTEND;VALUE=DATE:20260719
DTSTAMP:20260423T105554
CREATED:20260327T131417Z
LAST-MODIFIED:20260327T131417Z
UID:2902-1784332800-1784419199@oftr.ca
SUMMARY:VTR Adventure Ride
DESCRIPTION:
URL:https://oftr.ca/event/vtr-adventure-ride/
ORGANIZER;CN="VTR":MAILTO:info@oftr.ca
END:VEVENT
BEGIN:VEVENT
DTSTART;TZID=UTC:20260725T080000
DTEND;TZID=UTC:20260726T170000
DTSTAMP:20260423T105554
CREATED:20260218T195712Z
LAST-MODIFIED:20260218T195712Z
UID:2847-1784966400-1785085200@oftr.ca
SUMMARY:WOLF MOUNTAIN ADVENTURE RALLY
DESCRIPTION:
URL:https://oftr.ca/event/wolf-mountain-adventure-rally/
END:VEVENT
BEGIN:VEVENT
DTSTART;VALUE=DATE:20260802
DTEND;VALUE=DATE:20260803
DTSTAMP:20260423T105554
CREATED:20260416T130040Z
LAST-MODIFIED:20260416T130040Z
UID:2929-1785628800-1785715199@oftr.ca
SUMMARY:NTR Weslemkoon Trail Ride
DESCRIPTION:
URL:https://oftr.ca/event/ntr-weslemkoon-trail-ride/
END:VEVENT
BEGIN:VEVENT
DTSTART;VALUE=DATE:20260808
DTEND;VALUE=DATE:20260809
DTSTAMP:20260423T105554
CREATED:20260218T195757Z
LAST-MODIFIED:20260315T145848Z
UID:2849-1786147200-1786233599@oftr.ca
SUMMARY:MORR & Dave's Skeleton Lake Ride Series
DESCRIPTION:
URL:https://oftr.ca/event/oftr-family-day-3/
LOCATION:Skeleton Lake\, 3409 Aspdin Road\, Utterson\, Ontario\, P0B 1M0\, Canada
END:VEVENT
BEGIN:VEVENT
DTSTART;VALUE=DATE:20260808
DTEND;VALUE=DATE:20260809
DTSTAMP:20260423T105554
CREATED:20260327T131523Z
LAST-MODIFIED:20260327T131523Z
UID:2904-1786147200-1786233599@oftr.ca
SUMMARY:The Petawawa Shuffle
DESCRIPTION:
URL:https://oftr.ca/event/the-petawawa-shuffle/
ORGANIZER;CN="VTR":MAILTO:info@oftr.ca
END:VEVENT
BEGIN:VEVENT
DTSTART;TZID=UTC:20260821T080000
DTEND;TZID=UTC:20260823T170000
DTSTAMP:20260423T105554
CREATED:20260218T195927Z
LAST-MODIFIED:20260218T195927Z
UID:2853-1787299200-1787504400@oftr.ca
SUMMARY:LADIES MOTO MINGLE
DESCRIPTION:
URL:https://oftr.ca/event/ladies-moto-mingle/
END:VEVENT
BEGIN:VEVENT
DTSTART;TZID=UTC:20260912T080000
DTEND;TZID=UTC:20260914T170000
DTSTAMP:20260423T105554
CREATED:20260218T200011Z
LAST-MODIFIED:20260218T200011Z
UID:2855-1789200000-1789405200@oftr.ca
SUMMARY:CALABOGIE BOOGIE
DESCRIPTION:
URL:https://oftr.ca/event/calabogie-boogie/
END:VEVENT
BEGIN:VEVENT
DTSTART;VALUE=DATE:20260927
DTEND;VALUE=DATE:20260928
DTSTAMP:20260423T105554
CREATED:20260218T200049Z
LAST-MODIFIED:20260218T200049Z
UID:2857-1790467200-1790553599@oftr.ca
SUMMARY:JUNIOR OFF ROAD SCHOOL
DESCRIPTION:
URL:https://oftr.ca/event/junior-off-road-school-2/
END:VEVENT
BEGIN:VEVENT
DTSTART;VALUE=DATE:20261003
DTEND;VALUE=DATE:20261004
DTSTAMP:20260423T105554
CREATED:20260218T200141Z
LAST-MODIFIED:20260218T200157Z
UID:2859-1790985600-1791071999@oftr.ca
SUMMARY:MORR SKILLS MORR THRILLS
DESCRIPTION:
URL:https://oftr.ca/event/morr-skills-morr-thrills/
END:VEVENT
END:VCALENDAR